BEGIN:VCALENDAR
VERSION:2.0
PRODID:-//ChamberMaster//Event Calendar 2.0//EN
METHOD:PUBLISH
X-PUBLISHED-TTL:P3D
REFRESH-INTERVAL:P3D
CALSCALE:GREGORIAN
BEGIN:VEVENT
DTSTART:20151213T013000Z
DTEND:20151213T040000Z
X-MICROSOFT-CDO-ALLDAYEVENT:FALSE
SUMMARY:Christmas Play Special
DESCRIPTION:Enjoy two plays for the evening. One before intermission\, and one after! \n\n\n\nThe Best Christmas Pageant Ever\n\nThe Best Christmas Pageant Ever is a hilarious Christmas Classic. A couple struggling to put on a church Christmas pageant are faced with casting the Herdman kids--probably the most inventively awful kids in history. You won't believe the mayhem and the fun  when the Herdmen collide with the Christmas story head on!  This delightful comedy features plenty of great roles for children and adults\, a few favorite Christmas Carols\, and a lot of laughs! \n\n\n\nGift of the Magi\n\nIn The Gift of the Magi James and his wife\, Della\, are a couple living in a modest apartment. They have only two possessions\, Jim's shiny gold watch\, which had belonged to his father and grandfather\, and Della's hair. Della later admits to Jim that she sold her hair to buy him his present. Jim gives Della her present   expensive hair pins\, that are now useless Della then shows Jim the chain she bought for him\, to which Jim says he sold his watch to get the money to buy her combs. Although Jim and Della are now left with gifts that neither one can use\, they realize how far they are willing to go to show their love for each other
X-ALT-DESC;FMTTYPE=text/html:<span style="font-size:16px">Enjoy two plays for the evening. One before intermission\, and one after!&nbsp\;</span><br />\n<br />\n<span style="font-size:16px"><strong><em>The Best Christmas Pageant Ever</em></strong></span><br />\n<span style="font-family:arial"><span style="font-size:12.3pt">The Best Christmas&nbsp\;</span></span><span style="font-family:arial"><span style="font-size:12.3pt">Pageant Ever&nbsp\;</span></span><span style="font-family:arial"><span style="font-size:12.3pt">is a&nbsp\;</span></span><span style="font-family:arial"><span style="font-size:12.3pt">hilarious Christmas&nbsp\;</span></span><span style="font-family:arial"><span style="font-size:12.3pt">Classic. A couple&nbsp\;</span></span><span style="font-family:arial"><span style="font-size:12.3pt">struggling to put on a church Christmas&nbsp\;</span></span><span style="font-family:arial"><span style="font-size:12.3pt">pageant are faced with casting the Herdman kids--probably the most&nbsp\;</span></span><span style="font-family:arial"><span style="font-size:12.3pt">inventively awful kids in history. You won&#39\;t believe the mayhem and the fun&nbsp\; when the Herdmen&nbsp\;</span></span><span style="font-family:arial"><span style="font-size:12.3pt">collide with the Christmas story head on!&nbsp\; This&nbsp\;</span></span><span style="font-family:arial"><span style="font-size:12.3pt">delightful comedy&nbsp\;</span></span><span style="font-family:arial"><span style="font-size:12.3pt">features plenty of great roles for&nbsp\;</span></span><span style="font-family:arial"><span style="font-size:12.3pt">children and adults\, a few favorite Christmas Carols\, and a lot of laughs!&nbsp\;<br />\n<br />\n<strong><em>Gift of the Magi</em></strong></span></span><br />\n<span style="font-family:arial"><span style="font-size:11pt">In&nbsp\;</span></span><span style="font-family:arial"><span style="font-size:11pt">The Gift of the Magi&nbsp\;</span></span><span style="font-family:arial"><span style="font-size:11pt">James and his wife\, Della\, are a couple&nbsp\;living in a modest&nbsp\;apartment. They have only two possessions\, Jim&#39\;s shiny gold watch\, which had belonged to his father and grandfather\, and Della&rsquo\;s hair. Della later admits to Jim that she sold her hair to buy him his&nbsp\;present. Jim gives Della her present &ndash\; expensive hair pins\, that are now useless Della then shows Jim the chain she bought for him\, to which Jim says he sold his watch to get the money to buy her combs.&nbsp\;Although Jim and Della are now left with gifts that neither one can use\, they realize how far they are willing to go to show their love for each other</span></span>
LOCATION:Pepsi-Cola Theatre for the Performing Arts
UID:e.1624.2297
SEQUENCE:3
DTSTAMP:20260423T010525Z
URL:http://mitchellaurora.chambermaster.com/events/details/christmas-play-special-12-12-2015-2297
END:VEVENT

END:VCALENDAR
