BEGIN:VCALENDAR
VERSION:2.0
PRODID:-//ChamberMaster//Event Calendar 2.0//EN
METHOD:PUBLISH
X-PUBLISHED-TTL:P3D
REFRESH-INTERVAL:P3D
CALSCALE:GREGORIAN
BEGIN:VEVENT
DTSTART:20190202T220000Z
DTEND:20190202T233000Z
X-MICROSOFT-CDO-ALLDAYEVENT:FALSE
SUMMARY:DWU vs St Mary Women
DESCRIPTION:http://cornpalace.com/calendar.aspx?EID=304
X-ALT-DESC;FMTTYPE=text/html: http://cornpalace.com/calendar.aspx?EID=304
LOCATION:The World's Only Corn Palace - 604 N Main St Mitchell SD 57301
UID:e.1624.22815
SEQUENCE:3
DTSTAMP:20260421T184422Z
URL:http://mitchellaurora.chambermaster.com/events/details/dwu-vs-st-mary-women-22815
END:VEVENT

END:VCALENDAR
