BEGIN:VCALENDAR
VERSION:2.0
PRODID:-//ChamberMaster//Event Calendar 2.0//EN
METHOD:PUBLISH
X-PUBLISHED-TTL:P3D
REFRESH-INTERVAL:P3D
CALSCALE:GREGORIAN
BEGIN:VEVENT
DTSTART:20151106T160000Z
DTEND:20151107T223000Z
X-MICROSOFT-CDO-ALLDAYEVENT:FALSE
SUMMARY:Holiday Open House
DESCRIPTION:Kick of the Holiday Season in Style!!!! November 6 & 7 Ideal Fashion & Furnishings *Treats and Refreshments *Coloring Contest & *Register for a chance to win a $100.00 Shopping Spree! On Saturday Nov. 7\, 2015 *Meet Local Children's Author Jean Patrick from 1-3 and have a book autographed for that special little on your Christmas List! *Enjoy Live Christmas Music by Billy Lurken from 2-4pm *Check out our Holiday Gift Guide at www.idealfashionandfurnishings.com and start your Holiday Shopping with Great Sales!
X-ALT-DESC;FMTTYPE=text/html:Kick of the Holiday Season in Style!!!! November 6 &amp\; 7 Ideal Fashion &amp\; Furnishings *Treats and Refreshments *Coloring Contest &amp\; *Register for a chance to win a $100.00 Shopping Spree! On Saturday Nov. 7\, 2015 *Meet Local Children&#39\;s Author Jean Patrick from 1-3 and have a book autographed for that special little on your Christmas List! *Enjoy Live Christmas Music by Billy Lurken from 2-4pm *Check out our Holiday Gift Guide at www.idealfashionandfurnishings.com and start your Holiday Shopping with Great Sales!
LOCATION:Ideal Fashion & Furnishings 114 N. Main St Mitchell\, SD 57301
UID:e.1624.2304
SEQUENCE:3
DTSTAMP:20260421T072402Z
URL:http://mitchellaurora.chambermaster.com/events/details/holiday-open-house-11-06-2015-2304
END:VEVENT

END:VCALENDAR
