BEGIN:VCALENDAR
VERSION:2.0
PRODID:-//ChamberMaster//Event Calendar 2.0//EN
METHOD:PUBLISH
X-PUBLISHED-TTL:P3D
REFRESH-INTERVAL:P3D
CALSCALE:GREGORIAN
BEGIN:VEVENT
DTSTART:20150929T230000Z
DTEND:20150930T010000Z
X-MICROSOFT-CDO-ALLDAYEVENT:FALSE
SUMMARY:McGovern Civic Engagement Forum
DESCRIPTION:The McGovern Center for Leadership and Public Service at Dakota Wesleyan University will host the McGovern Civic Engagement Forum: Should Religion Play a Role in 21st Century Politics? This event is a free event and open to the public.
X-ALT-DESC;FMTTYPE=text/html:<div>The McGovern Center for Leadership and Public Service at Dakota Wesleyan University will host the McGovern Civic Engagement Forum: Should Religion Play a Role in 21st Century Politics?&nbsp\;<span style="line-height:1.6">This event is a free event and open to the public.</span></div>\n
LOCATION:Sherman Center\, DWU
UID:e.1624.1961
SEQUENCE:3
DTSTAMP:20260421T184740Z
URL:http://mitchellaurora.chambermaster.com/events/details/mcgovern-civic-engagement-forum-09-29-2015-1961
END:VEVENT

END:VCALENDAR
