BEGIN:VCALENDAR
VERSION:2.0
PRODID:-//ChamberMaster//Event Calendar 2.0//EN
METHOD:PUBLISH
X-PUBLISHED-TTL:P3D
REFRESH-INTERVAL:P3D
CALSCALE:GREGORIAN
BEGIN:VEVENT
DTSTART:20160823T203000Z
DTEND:20160823T220000Z
X-MICROSOFT-CDO-ALLDAYEVENT:FALSE
SUMMARY:MTI Community Kickoff
DESCRIPTION:Plans are underway for the 4th Annual MTI Community Kickoff to be held on Tuesday\, August 23rd\, 2016! The goals of the annual Community Kickoff are: 1) To bring the community of Mitchell together with the MTI student community\; 2) to introduce MTI students to the services available to them in Mitchell\; and 3) to provide businesses a chance to talk with a significant group of students looking for part-time employment.\n\n\n\nArea businesses and service organizations are invited to be exhibitors at this event. Representatives will have the opportunity to share with students a company's or organization's services that are available\; speak with interested students regarding volunteer opportunities\; and provide information about part-time job openings. More than 650 students new to the Mitchell community are invited. The event will be held at the Nordby Trades Center Building from 3:30-5pm. Exhibitor registration and setup will be from 2-3:15pm. Deadline to register is 4pm on August 12th.\n\n\n\nThere will be prize drawings throughout the Kickoff at various exhibitor booths. Businesses are encouraged to bring a prize to give away.\n\n\n\nTo register or for more information\, contact Janet Greenway\, MTI Director of Career Services and Advising\, at 995-7194 or email janet.greenway@mitchelltech.edu
X-ALT-DESC;FMTTYPE=text/html:Plans are underway for the 4th Annual <strong>MTI Community Kickoff</strong> to be held on <strong>Tuesday\, August 23rd\, 2016</strong>! The goals of the annual Community Kickoff are: 1) To bring the community of Mitchell together with the MTI student community\; 2) to introduce MTI students to the services available to them in Mitchell\; and 3) to provide businesses a chance to talk with a significant group of students looking for part-time employment.<br />\n<br />\nArea businesses and service organizations are invited to be exhibitors at this event. Representatives will have the opportunity to share with students a company&#39\;s or organization&#39\;s services that are available\; speak with interested students regarding volunteer opportunities\; and provide information about part-time job openings. More than 650 students new to the Mitchell community are invited. The event will be held at the Nordby Trades Center Building from 3:30-5pm. Exhibitor registration and setup will be from 2-3:15pm. <strong>Deadline to register is 4pm on August 12th.</strong><br />\n<br />\nThere will be prize drawings throughout the Kickoff at various exhibitor booths. Businesses are encouraged to bring a prize to give away.<br />\n<br />\nTo register or for more information\, contact Janet Greenway\, MTI Director of Career Services and Advising\, at 995-7194 or email <a href="mailto:janet.greenway@mitchelltech.edu">janet.greenway@mitchelltech.edu</a>
LOCATION:Mitchell Technical Institute - Nordby Trades Center Building\; 1800 E Spruce Street
UID:e.1624.3951
SEQUENCE:3
DTSTAMP:20260422T131909Z
URL:http://mitchellaurora.chambermaster.com/events/details/mti-community-kickoff-08-23-2016-3951
END:VEVENT

END:VCALENDAR
