BEGIN:VCALENDAR
VERSION:2.0
PRODID:-//ChamberMaster//Event Calendar 2.0//EN
METHOD:PUBLISH
X-PUBLISHED-TTL:P3D
REFRESH-INTERVAL:P3D
CALSCALE:GREGORIAN
BEGIN:VEVENT
DTSTART:20150618T000000Z
DTEND:20150618T020000Z
X-MICROSOFT-CDO-ALLDAYEVENT:FALSE
SUMMARY:Sushi Launch Event
DESCRIPTION:County Fair Food Store in Mitchell will soon be offering freshly made sushi daily from their deli! To celebrate and give you a sneak peak at what we will be serving\, we invite you to join us for a Sushi Launch party on Wednesday\, June 17th starting at 7pm at the County Fair Banquet Hall. A variety of sushi and wines will be served. Cost is $30 per person. Please call 999-8393 to reserve your spot!
X-ALT-DESC;FMTTYPE=text/html:County Fair Food Store in Mitchell will soon be offering freshly made sushi daily from their deli! To celebrate and give you a sneak peak at what we will be serving\, we invite you to join us for a Sushi Launch party on Wednesday\, June 17th starting at 7pm at the County Fair Banquet Hall. A variety of sushi and wines will be served. Cost is $30 per person. Please call 999-8393 to reserve your spot!
LOCATION:County Fair Banquet Hall\, 15th & Sanborn
UID:e.1624.1678
SEQUENCE:3
DTSTAMP:20260421T224735Z
URL:http://mitchellaurora.chambermaster.com/events/details/sushi-launch-event-06-17-2015-1678
END:VEVENT

END:VCALENDAR
