BEGIN:VCALENDAR
VERSION:2.0
PRODID:-//ChamberMaster//Event Calendar 2.0//EN
METHOD:PUBLISH
X-PUBLISHED-TTL:P3D
REFRESH-INTERVAL:P3D
CALSCALE:GREGORIAN
BEGIN:VEVENT
DTSTART;VALUE=DATE:20150822
DTEND;VALUE=DATE:20150823
TRANSP:TRANSPARENT
X-MICROSOFT-CDO-ALLDAYEVENT:TRUE
SUMMARY:Tour de Corn Bicycle Ride
DESCRIPTION:Charity Ride to benefit the construction\, maintenance and promotion of Mitchell area bicycle trails.
X-ALT-DESC;FMTTYPE=text/html:Charity Ride to benefit the construction\, maintenance and promotion of Mitchell area bicycle trails.
LOCATION:Corn Palace
UID:e.1624.1536
SEQUENCE:3
DTSTAMP:20260421T113407Z
URL:http://mitchellaurora.chambermaster.com/events/details/tour-de-corn-bicycle-ride-08-22-2015-1536
END:VEVENT

END:VCALENDAR
